BEGIN:VCALENDAR
VERSION:2.0
PRODID:-//ChamberMaster//Event Calendar 2.0//EN
METHOD:PUBLISH
X-PUBLISHED-TTL:P3D
REFRESH-INTERVAL:P3D
CALSCALE:GREGORIAN
BEGIN:VEVENT
DTSTART:20150708T144500Z
DTEND:20150708T154500Z
X-MICROSOFT-CDO-ALLDAYEVENT:FALSE
SUMMARY:Ribbon Cutting: Warehouse 605
DESCRIPTION:Please join us for a ribbon cutting at Warehouse 605 as they celebrate 10 years in business.
X-ALT-DESC;FMTTYPE=text/html:Please join us for a ribbon cutting at Warehouse 605 as they celebrate 10 years in business.
LOCATION:605 Daybrite Dr. Tupelo\, MS 38804
UID:e.2161.230
SEQUENCE:3
DTSTAMP:20260425T103259Z
URL:https://business.cdfms.org/events/details/ribbon-cutting-warehouse-605-07-08-2015-230
END:VEVENT

END:VCALENDAR
