BEGIN:VCALENDAR
VERSION:2.0
PRODID:-//ChamberMaster//Event Calendar 2.0//EN
METHOD:PUBLISH
X-PUBLISHED-TTL:P3D
REFRESH-INTERVAL:P3D
CALSCALE:GREGORIAN
BEGIN:VEVENT
DTSTART:20160803T140000Z
DTEND:20160803T150000Z
X-MICROSOFT-CDO-ALLDAYEVENT:FALSE
SUMMARY:Ribbon Cutting: Walmart Neighborhood Market
DESCRIPTION:Please join us to help Walmart Neighborhood Market celebrate their grand opening with a ribbon cuttting!
X-ALT-DESC;FMTTYPE=text/html:Please join us to help Walmart Neighborhood Market celebrate their grand opening with a ribbon cuttting!
LOCATION:316 S. Gloster St. Tupelo\, MS 38801
UID:e.2161.1338
SEQUENCE:3
DTSTAMP:20260424T124051Z
URL:https://business.cdfms.org/events/details/ribbon-cutting-walmart-neighborhood-market-08-03-2016-1338
END:VEVENT

END:VCALENDAR
