BEGIN:VCALENDAR
VERSION:2.0
PRODID:-//ChamberMaster//Event Calendar 2.0//EN
METHOD:PUBLISH
X-PUBLISHED-TTL:P3D
REFRESH-INTERVAL:P3D
CALSCALE:GREGORIAN
BEGIN:VEVENT
DTSTART:20170309T220000Z
DTEND:20170309T223000Z
X-MICROSOFT-CDO-ALLDAYEVENT:FALSE
SUMMARY:Ribbon CUtting: Waits Law\, PLLC
DESCRIPTION:Come join us at Waits Law\, PLLC for a Grand Opening and Ribbon Cutting presented by Mississippi Alarm
X-ALT-DESC;FMTTYPE=text/html:<div style="text-align: center\;">Come join us at Waits Law\, PLLC for a Grand Opening and Ribbon Cutting presented by Mississippi Alarm</div>\n
LOCATION:95 S Green St.\, Ste. C
UID:e.2161.1435
SEQUENCE:3
DTSTAMP:20260422T012220Z
URL:https://business.cdfms.org/events/details/ribbon-cutting-waits-law-pllc-1435
END:VEVENT

END:VCALENDAR
