BEGIN:VCALENDAR
VERSION:2.0
PRODID:-//ChamberMaster//Event Calendar 2.0//EN
METHOD:PUBLISH
X-PUBLISHED-TTL:P3D
REFRESH-INTERVAL:P3D
CALSCALE:GREGORIAN
BEGIN:VEVENT
DTSTART:20170905T150000Z
DTEND:20170905T153000Z
X-MICROSOFT-CDO-ALLDAYEVENT:FALSE
SUMMARY:Ribbon Cutting: Tupelo Trophy and Gifts Relocation
DESCRIPTION:Come join us for a ribbon cutting presented by Mississippi Alarm
X-ALT-DESC;FMTTYPE=text/html:<div style="text-align: center\;">Come join us for a ribbon cutting presented by Mississippi Alarm</div>\n
LOCATION:810 Robert E Lee Dr.
UID:e.2161.1502
SEQUENCE:3
DTSTAMP:20260421T125510Z
URL:https://business.cdfms.org/events/details/ribbon-cutting-tupelo-trophy-and-gifts-relocation-1502
END:VEVENT

END:VCALENDAR
