BEGIN:VCALENDAR
VERSION:2.0
PRODID:-//ChamberMaster//Event Calendar 2.0//EN
METHOD:PUBLISH
X-PUBLISHED-TTL:P3D
REFRESH-INTERVAL:P3D
CALSCALE:GREGORIAN
BEGIN:VEVENT
DTSTART:20170227T200000Z
DTEND:20170227T203000Z
X-MICROSOFT-CDO-ALLDAYEVENT:FALSE
SUMMARY:Ribbon Cutting: Tupelo Police Department Headquarters
DESCRIPTION:Join us at the NEW Tupelo Police Department Headquarters for a Grand Opening and Ribbon Cutting presented by Mississippi Alarm
X-ALT-DESC;FMTTYPE=text/html:<div style="text-align: center\;">Join us at the NEW Tupelo Police Department Headquarters for a Grand Opening and Ribbon Cutting presented by Mississippi Alarm</div>\n
LOCATION:400 N Front St.
UID:e.2161.1431
SEQUENCE:3
DTSTAMP:20260422T012925Z
URL:https://business.cdfms.org/events/details/ribbon-cutting-tupelo-police-department-headquarters-1431
END:VEVENT

END:VCALENDAR
