BEGIN:VCALENDAR
VERSION:2.0
PRODID:-//ChamberMaster//Event Calendar 2.0//EN
METHOD:PUBLISH
X-PUBLISHED-TTL:P3D
REFRESH-INTERVAL:P3D
CALSCALE:GREGORIAN
BEGIN:VEVENT
DTSTART:20160414T173000Z
DTEND:20160414T183000Z
X-MICROSOFT-CDO-ALLDAYEVENT:FALSE
SUMMARY:Ribbon Cutting: Tupelo Plastic Surgery Clinic\, P.A.
DESCRIPTION:Please join us for a ribbon cutting to help Tupelo Plastic Surgery Clinic celebrate the grand opening of their new location!
X-ALT-DESC;FMTTYPE=text/html:Please join us for a ribbon cutting to help Tupelo Plastic Surgery Clinic celebrate the grand opening of their new location!
LOCATION:499 Gloster Creek Village\, Ste. D4 Tupelo\, MS 38804
UID:e.2161.1303
SEQUENCE:3
DTSTAMP:20260424T200215Z
URL:https://business.cdfms.org/events/details/ribbon-cutting-tupelo-plastic-surgery-clinic-p-a-04-14-2016-1303
END:VEVENT

END:VCALENDAR
