BEGIN:VCALENDAR
VERSION:2.0
PRODID:-//ChamberMaster//Event Calendar 2.0//EN
METHOD:PUBLISH
X-PUBLISHED-TTL:P3D
REFRESH-INTERVAL:P3D
CALSCALE:GREGORIAN
BEGIN:VEVENT
DTSTART:20250318T150000Z
DTEND:20250318T153000Z
X-MICROSOFT-CDO-ALLDAYEVENT:FALSE
SUMMARY:Ribbon Cutting: Tupelo Photobooth
DESCRIPTION:Come join us for a ribbon cutting presented by Glamour Enterprises
X-ALT-DESC;FMTTYPE=text/html:Come join us for a ribbon cutting presented by Glamour Enterprises
LOCATION:398 E Main St. Tupelo\, MS 38804
UID:e.2161.2151
SEQUENCE:3
DTSTAMP:20260424T085535Z
URL:https://business.cdfms.org/events/details/ribbon-cutting-tupelo-photobooth-2151
END:VEVENT

END:VCALENDAR
