BEGIN:VCALENDAR
VERSION:2.0
PRODID:-//ChamberMaster//Event Calendar 2.0//EN
METHOD:PUBLISH
X-PUBLISHED-TTL:P3D
REFRESH-INTERVAL:P3D
CALSCALE:GREGORIAN
BEGIN:VEVENT
DTSTART:20160906T160000Z
DTEND:20160906T163000Z
X-MICROSOFT-CDO-ALLDAYEVENT:FALSE
SUMMARY:Ribbon Cutting: Tupelo Drugs
DESCRIPTION:Join us for a ribbon cutting at Tupelo Drug presented by Mississippi Alarm
X-ALT-DESC;FMTTYPE=text/html:<div style="text-align: center\;"><br />\nJoin us for a ribbon cutting at Tupelo Drug presented by Mississippi Alarm</div>\n
LOCATION:715 Garfield St.
UID:e.2161.1376
SEQUENCE:3
DTSTAMP:20260424T122739Z
URL:https://business.cdfms.org/events/details/ribbon-cutting-tupelo-drugs-09-06-2016-1376
END:VEVENT

END:VCALENDAR
