BEGIN:VCALENDAR
VERSION:2.0
PRODID:-//ChamberMaster//Event Calendar 2.0//EN
METHOD:PUBLISH
X-PUBLISHED-TTL:P3D
REFRESH-INTERVAL:P3D
CALSCALE:GREGORIAN
BEGIN:VEVENT
DTSTART:20150526T153000Z
DTEND:20150526T160000Z
X-MICROSOFT-CDO-ALLDAYEVENT:FALSE
SUMMARY:Ribbon Cutting: Taziki's Mediterranean Cafe
DESCRIPTION:Please join us for a ribbon cutting at Taziki's Mediterranean Cafe
X-ALT-DESC;FMTTYPE=text/html:Please join us for a ribbon cutting at Taziki&#39\;s Mediterranean Cafe
LOCATION:3982 N. Gloster St. Ste. 2 Tupelo\, MS 38801
UID:e.2161.221
SEQUENCE:3
DTSTAMP:20260425T174138Z
URL:https://business.cdfms.org/events/details/ribbon-cutting-taziki-s-mediterranean-cafe-05-26-2015-221
END:VEVENT

END:VCALENDAR
