BEGIN:VCALENDAR
VERSION:2.0
PRODID:-//ChamberMaster//Event Calendar 2.0//EN
METHOD:PUBLISH
X-PUBLISHED-TTL:P3D
REFRESH-INTERVAL:P3D
CALSCALE:GREGORIAN
BEGIN:VEVENT
DTSTART:20160407T210000Z
DTEND:20160407T220000Z
X-MICROSOFT-CDO-ALLDAYEVENT:FALSE
SUMMARY:Ribbon Cutting: Surgery Clinic of Tupelo
DESCRIPTION:Please join us for a ribbon cutting to help Surgery Clinic of Tupelo celebrate the grand opening of their new office!
X-ALT-DESC;FMTTYPE=text/html:Please join us for a ribbon cutting to help Surgery Clinic of Tupelo celebrate the grand opening of their new office!
LOCATION:499 Gloster Creek Village\, Ste. S-1 Tupelo\, MS 38804
UID:e.2161.1301
SEQUENCE:3
DTSTAMP:20260424T200404Z
URL:https://business.cdfms.org/events/details/ribbon-cutting-surgery-clinic-of-tupelo-04-07-2016-1301
END:VEVENT

END:VCALENDAR
