BEGIN:VCALENDAR
VERSION:2.0
PRODID:-//ChamberMaster//Event Calendar 2.0//EN
METHOD:PUBLISH
X-PUBLISHED-TTL:P3D
REFRESH-INTERVAL:P3D
CALSCALE:GREGORIAN
BEGIN:VEVENT
DTSTART:20160519T153000Z
DTEND:20160519T163000Z
X-MICROSOFT-CDO-ALLDAYEVENT:FALSE
SUMMARY:Ribbon Cutting: Sunbelt Rentals
DESCRIPTION:Join Sunbelt Rentals as they celebrate their grand opening with a ribbon cutting!  \n\n\n\nThanks to our Ribbon Cuttings Presenting Sponsor\n\nMississippi Alarm\, Inc.
X-ALT-DESC;FMTTYPE=text/html:<span style="font-size:14px\;">Join Sunbelt Rentals as they celebrate&nbsp\;their grand opening with a ribbon cutting! </span>&nbsp\;<br />\n<br />\nThanks to our Ribbon Cuttings Presenting Sponsor<br />\nMississippi Alarm\, Inc.
LOCATION:1408 D L Collums Dr. Tupelo\, MS 38801
UID:e.2161.1307
SEQUENCE:3
DTSTAMP:20260424T182041Z
URL:https://business.cdfms.org/events/details/ribbon-cutting-sunbelt-rentals-05-19-2016-1307
END:VEVENT

END:VCALENDAR
