BEGIN:VCALENDAR
VERSION:2.0
PRODID:-//ChamberMaster//Event Calendar 2.0//EN
METHOD:PUBLISH
X-PUBLISHED-TTL:P3D
REFRESH-INTERVAL:P3D
CALSCALE:GREGORIAN
BEGIN:VEVENT
DTSTART:20160324T210000Z
DTEND:20160324T220000Z
X-MICROSOFT-CDO-ALLDAYEVENT:FALSE
SUMMARY:Ribbon Cutting: Stefany's Vocal & Performance Training Studios
DESCRIPTION:Please join us for ribbon cutting at Stefany's Vocal & Performance Training Studios to help celebrate their grand opening!
X-ALT-DESC;FMTTYPE=text/html:Please join us for ribbon cutting at Stefany&#39\;s Vocal &amp\; Performance Training Studios to help celebrate their grand opening!
LOCATION:807 Harrison St.\, Ste. A Tupelo\, MS 38804
UID:e.2161.1295
SEQUENCE:3
DTSTAMP:20260419T204721Z
URL:https://business.cdfms.org/events/details/ribbon-cutting-stefany-s-vocal-performance-training-studios-03-24-2016-1295
END:VEVENT

END:VCALENDAR
