BEGIN:VCALENDAR
VERSION:2.0
PRODID:-//ChamberMaster//Event Calendar 2.0//EN
METHOD:PUBLISH
X-PUBLISHED-TTL:P3D
REFRESH-INTERVAL:P3D
CALSCALE:GREGORIAN
BEGIN:VEVENT
DTSTART:20170519T170000Z
DTEND:20170519T173000Z
X-MICROSOFT-CDO-ALLDAYEVENT:FALSE
SUMMARY:Ribbon Cutting: State Farm Insurance- Rob Rice Agency
DESCRIPTION:Come join us for a customer appreciation day and ribbon cutting  presented by Mississippi Alarm
X-ALT-DESC;FMTTYPE=text/html:<div style="text-align: center\;">Come join us for a customer appreciation day and ribbon cutting &nbsp\;presented by Mississippi Alarm</div>\n
LOCATION:1915 Cliff Gookin Blvd.
UID:e.2161.1446
SEQUENCE:3
DTSTAMP:20260421T215404Z
URL:https://business.cdfms.org/events/details/ribbon-cutting-state-farm-insurance-rob-rice-agency-1446
END:VEVENT

END:VCALENDAR
