BEGIN:VCALENDAR
VERSION:2.0
PRODID:-//ChamberMaster//Event Calendar 2.0//EN
METHOD:PUBLISH
X-PUBLISHED-TTL:P3D
REFRESH-INTERVAL:P3D
CALSCALE:GREGORIAN
BEGIN:VEVENT
DTSTART:20160719T140000Z
DTEND:20160719T150000Z
X-MICROSOFT-CDO-ALLDAYEVENT:FALSE
SUMMARY:Ribbon Cutting: Star Nails Nail Salon
DESCRIPTION:Please join us for a ribbon cutting to help Star Nails Nail Salon celebrate their grand opening!
X-ALT-DESC;FMTTYPE=text/html:Please join us for a ribbon cutting to help Star Nails Nail Salon celebrate their grand opening!
LOCATION:1712 N. Gloster St. Tupelo\, MS 38801
UID:e.2161.1335
SEQUENCE:3
DTSTAMP:20260424T141633Z
URL:https://business.cdfms.org/events/details/ribbon-cutting-star-nails-nail-salon-07-19-2016-1335
END:VEVENT

END:VCALENDAR
