BEGIN:VCALENDAR
VERSION:2.0
PRODID:-//ChamberMaster//Event Calendar 2.0//EN
METHOD:PUBLISH
X-PUBLISHED-TTL:P3D
REFRESH-INTERVAL:P3D
CALSCALE:GREGORIAN
BEGIN:VEVENT
DTSTART:20150825T150000Z
DTEND:20150825T160000Z
X-MICROSOFT-CDO-ALLDAYEVENT:FALSE
SUMMARY:Ribbon Cutting: Southern Rentals and Sales
DESCRIPTION:Please join us for a ribbon cutting at Southern Rentals and Sales to help celebrate their Grand Opening.
X-ALT-DESC;FMTTYPE=text/html:Please join us for a ribbon cutting at Southern Rentals and Sales to help celebrate their Grand Opening.
LOCATION:1776 Cliff Gookin Blvd. Tupelo\, MS 38801
UID:e.2161.246
SEQUENCE:3
DTSTAMP:20260425T114924Z
URL:https://business.cdfms.org/events/details/ribbon-cutting-southern-rentals-and-sales-08-25-2015-246
END:VEVENT

END:VCALENDAR
