BEGIN:VCALENDAR
VERSION:2.0
PRODID:-//ChamberMaster//Event Calendar 2.0//EN
METHOD:PUBLISH
X-PUBLISHED-TTL:P3D
REFRESH-INTERVAL:P3D
CALSCALE:GREGORIAN
BEGIN:VEVENT
DTSTART:20170922T210000Z
DTEND:20170922T211500Z
X-MICROSOFT-CDO-ALLDAYEVENT:FALSE
SUMMARY:Ribbon Cutting: Sister\, S.O.A.R.
DESCRIPTION:Please join us for a ribbon cutting presented by Mississippi Alarm
X-ALT-DESC;FMTTYPE=text/html:<div style="text-align: center\;">Please join us for a ribbon cutting presented by Mississippi Alarm</div>\n
LOCATION:499 S Gloster St.\, Ste. I-4A
UID:e.2161.1506
SEQUENCE:3
DTSTAMP:20260421T124301Z
URL:https://business.cdfms.org/events/details/ribbon-cutting-sister-s-o-a-r-1506
END:VEVENT

END:VCALENDAR
