BEGIN:VCALENDAR
VERSION:2.0
PRODID:-//ChamberMaster//Event Calendar 2.0//EN
METHOD:PUBLISH
X-PUBLISHED-TTL:P3D
REFRESH-INTERVAL:P3D
CALSCALE:GREGORIAN
BEGIN:VEVENT
DTSTART:20150501T190000Z
DTEND:20150501T200000Z
X-MICROSOFT-CDO-ALLDAYEVENT:FALSE
SUMMARY:Ribbon Cutting: Sam Stevens Motors
DESCRIPTION:Please join us for a Grand Opening Ribbon Cutting for Sam Stevens Motors
X-ALT-DESC;FMTTYPE=text/html:Please join us for a Grand Opening Ribbon Cutting for Sam Stevens Motors
LOCATION:3716 S. Eason Blvd. Tupelo\, MS 38801
UID:e.2161.219
SEQUENCE:3
DTSTAMP:20260425T173031Z
URL:https://business.cdfms.org/events/details/ribbon-cutting-sam-stevens-motors-05-01-2015-219
END:VEVENT

END:VCALENDAR
