BEGIN:VCALENDAR
VERSION:2.0
PRODID:-//ChamberMaster//Event Calendar 2.0//EN
METHOD:PUBLISH
X-PUBLISHED-TTL:P3D
REFRESH-INTERVAL:P3D
CALSCALE:GREGORIAN
BEGIN:VEVENT
DTSTART:20160815T153000Z
DTEND:20160815T163000Z
X-MICROSOFT-CDO-ALLDAYEVENT:FALSE
SUMMARY:Ribbon Cutting: Salsarita's Fresh Cantina- Tupelo
DESCRIPTION:Join us for a Ribbon Cutting and Grand Opening for Salsarita's Fresh Cantina- Tupelo presented by Mississippi Alarm.
X-ALT-DESC;FMTTYPE=text/html:<div style="text-align: center\;"><br />\nJoin us for a Ribbon Cutting and Grand Opening for Salsarita&#39\;s Fresh Cantina- Tupelo presented by Mississippi Alarm.&nbsp\;<br />\n<br />\n&nbsp\;</div>\n
LOCATION:3356 N. Gloster St.
UID:e.2161.1364
SEQUENCE:3
DTSTAMP:20260424T123903Z
URL:https://business.cdfms.org/events/details/ribbon-cutting-salsarita-s-fresh-cantina-tupelo-08-15-2016-1364
END:VEVENT

END:VCALENDAR
