BEGIN:VCALENDAR
VERSION:2.0
PRODID:-//ChamberMaster//Event Calendar 2.0//EN
METHOD:PUBLISH
X-PUBLISHED-TTL:P3D
REFRESH-INTERVAL:P3D
CALSCALE:GREGORIAN
BEGIN:VEVENT
DTSTART:20171005T160000Z
DTEND:20171005T161500Z
X-MICROSOFT-CDO-ALLDAYEVENT:FALSE
SUMMARY:Ribbon Cutting: Room 2 Room Bassett Section
DESCRIPTION:
X-ALT-DESC;FMTTYPE=text/html:
LOCATION:3651 Cliff Gookin Blvd.
UID:e.2161.1512
SEQUENCE:3
DTSTAMP:20260421T111025Z
URL:https://business.cdfms.org/events/details/ribbon-cutting-room-2-room-bassett-section-1512
END:VEVENT

END:VCALENDAR
