BEGIN:VCALENDAR
VERSION:2.0
PRODID:-//ChamberMaster//Event Calendar 2.0//EN
METHOD:PUBLISH
X-PUBLISHED-TTL:P3D
REFRESH-INTERVAL:P3D
CALSCALE:GREGORIAN
BEGIN:VEVENT
DTSTART:20170829T200000Z
DTEND:20170829T203000Z
X-MICROSOFT-CDO-ALLDAYEVENT:FALSE
SUMMARY:Ribbon Cutting: Renaissance Community Loan Fund
DESCRIPTION:Come join us for a Ribbon Cutting at Renaissance Community Loan Fund presented by Mississippi Alarm
X-ALT-DESC;FMTTYPE=text/html:<div style="text-align: center\;">Come join us for a Ribbon Cutting at Renaissance Community Loan Fund presented by Mississippi Alarm</div>\n
LOCATION:431 W Main St.\, Ste. 300
UID:e.2161.1496
SEQUENCE:3
DTSTAMP:20260421T160515Z
URL:https://business.cdfms.org/events/details/ribbon-cutting-renaissance-community-loan-fund-1496
END:VEVENT

END:VCALENDAR
