BEGIN:VCALENDAR
VERSION:2.0
PRODID:-//ChamberMaster//Event Calendar 2.0//EN
METHOD:PUBLISH
X-PUBLISHED-TTL:P3D
REFRESH-INTERVAL:P3D
CALSCALE:GREGORIAN
BEGIN:VEVENT
DTSTART:20160415T190000Z
DTEND:20160415T200000Z
X-MICROSOFT-CDO-ALLDAYEVENT:FALSE
SUMMARY:Ribbon Cutting: Red Cloud Vapor
DESCRIPTION:Please join us for a ribbon cutting to help Red Cloud Vapor celebrate their grand opening!
X-ALT-DESC;FMTTYPE=text/html:Please join us for a ribbon cutting to help Red Cloud Vapor celebrate their grand opening!
LOCATION:906 Robert E Lee Dr. Tupelo\, MS 38801
UID:e.2161.1308
SEQUENCE:3
DTSTAMP:20260424T213755Z
URL:https://business.cdfms.org/events/details/ribbon-cutting-red-cloud-vapor-04-15-2016-1308
END:VEVENT

END:VCALENDAR
