BEGIN:VCALENDAR
VERSION:2.0
PRODID:-//ChamberMaster//Event Calendar 2.0//EN
METHOD:PUBLISH
X-PUBLISHED-TTL:P3D
REFRESH-INTERVAL:P3D
CALSCALE:GREGORIAN
BEGIN:VEVENT
DTSTART:20160128T220000Z
DTEND:20160128T230000Z
X-MICROSOFT-CDO-ALLDAYEVENT:FALSE
SUMMARY:Ribbon Cutting: Rebound Physical Therapy
DESCRIPTION:Please join us for a ribbon cutting at Rebound Physical Therapy
X-ALT-DESC;FMTTYPE=text/html:Please join us for a ribbon cutting at Rebound Physical Therapy
LOCATION:600 Air Park Rd. Tupelo\, MS 38801
UID:e.2161.1285
SEQUENCE:3
DTSTAMP:20260421T110922Z
URL:https://business.cdfms.org/events/details/ribbon-cutting-rebound-physical-therapy-01-28-2016-1285
END:VEVENT

END:VCALENDAR
