BEGIN:VCALENDAR
VERSION:2.0
PRODID:-//ChamberMaster//Event Calendar 2.0//EN
METHOD:PUBLISH
X-PUBLISHED-TTL:P3D
REFRESH-INTERVAL:P3D
CALSCALE:GREGORIAN
BEGIN:VEVENT
DTSTART:20150226T220000Z
DTEND:20150226T230000Z
X-MICROSOFT-CDO-ALLDAYEVENT:FALSE
SUMMARY:Ribbon Cutting: Rasberry Financial Services
DESCRIPTION:Please join us for a ribbon cutting at Rasberry Financial Services to celebrate their Grand Opening.
X-ALT-DESC;FMTTYPE=text/html:Please join us for a ribbon cutting at Rasberry Financial Services to celebrate their Grand Opening.
LOCATION:499 Gloster Creek Vlg.\, Ste. BC-7 Midtown Pointe\, Main Office
UID:e.2161.203
SEQUENCE:3
DTSTAMP:20260425T221704Z
URL:https://business.cdfms.org/events/details/ribbon-cutting-rasberry-financial-services-02-26-2015-203
END:VEVENT

END:VCALENDAR
