BEGIN:VCALENDAR
VERSION:2.0
PRODID:-//ChamberMaster//Event Calendar 2.0//EN
METHOD:PUBLISH
X-PUBLISHED-TTL:P3D
REFRESH-INTERVAL:P3D
CALSCALE:GREGORIAN
BEGIN:VEVENT
DTSTART:20160331T210000Z
DTEND:20160331T220000Z
X-MICROSOFT-CDO-ALLDAYEVENT:FALSE
SUMMARY:Ribbon Cutting: Qualified Staffing
DESCRIPTION:Please join Qualified Staffing\, formerly Key Staff Source\, as they celebrate their new brand with a ribbon cutting!
X-ALT-DESC;FMTTYPE=text/html:Please join Qualified Staffing\, formerly Key Staff Source\, as they celebrate their new brand with a ribbon cutting!&nbsp\;
LOCATION:525 S. Church ST. Tupelo\, MS 38804
UID:e.2161.1288
SEQUENCE:3
DTSTAMP:20260424T213644Z
URL:https://business.cdfms.org/events/details/ribbon-cutting-qualified-staffing-03-31-2016-1288
END:VEVENT

END:VCALENDAR
