BEGIN:VCALENDAR
VERSION:2.0
PRODID:-//ChamberMaster//Event Calendar 2.0//EN
METHOD:PUBLISH
X-PUBLISHED-TTL:P3D
REFRESH-INTERVAL:P3D
CALSCALE:GREGORIAN
BEGIN:VEVENT
DTSTART:20160728T210000Z
DTEND:20160728T220000Z
X-MICROSOFT-CDO-ALLDAYEVENT:FALSE
SUMMARY:Ribbon Cutting: Prissy Pistols Boutique
DESCRIPTION:Please help us celebrate the grand opening of Prissy Pistols Boutique with a ribbon cutting!
X-ALT-DESC;FMTTYPE=text/html:Please help us celebrate the grand opening of Prissy Pistols Boutique with a ribbon cutting!
LOCATION:2139 McCullough Blvd. Tupelo\, MS 38801
UID:e.2161.1336
SEQUENCE:3
DTSTAMP:20260424T161955Z
URL:https://business.cdfms.org/events/details/ribbon-cutting-prissy-pistols-boutique-07-28-2016-1336
END:VEVENT

END:VCALENDAR
