BEGIN:VCALENDAR
VERSION:2.0
PRODID:-//ChamberMaster//Event Calendar 2.0//EN
METHOD:PUBLISH
X-PUBLISHED-TTL:P3D
REFRESH-INTERVAL:P3D
CALSCALE:GREGORIAN
BEGIN:VEVENT
DTSTART:20160409T020000Z
DTEND:20160409T030000Z
X-MICROSOFT-CDO-ALLDAYEVENT:FALSE
SUMMARY:Ribbon Cutting: Pappi's Garage
DESCRIPTION:Please join us for a ribbon cutting to celebrate Pappi's Garage grand opening!
X-ALT-DESC;FMTTYPE=text/html:Please join us for a ribbon cutting to celebrate Pappi&#39\;s Garage grand opening!
LOCATION:209 Commerce St Tupelo\, MS 38801
UID:e.2161.1300
SEQUENCE:3
DTSTAMP:20260424T195908Z
URL:https://business.cdfms.org/events/details/ribbon-cutting-pappi-s-garage-04-08-2016-1300
END:VEVENT

END:VCALENDAR
