BEGIN:VCALENDAR
VERSION:2.0
PRODID:-//ChamberMaster//Event Calendar 2.0//EN
METHOD:PUBLISH
X-PUBLISHED-TTL:P3D
REFRESH-INTERVAL:P3D
CALSCALE:GREGORIAN
BEGIN:VEVENT
DTSTART:20260330T200000Z
DTEND:20260330T203000Z
X-MICROSOFT-CDO-ALLDAYEVENT:FALSE
SUMMARY:Ribbon Cutting: Northeast Mississippi Board of Realtors
DESCRIPTION:
X-ALT-DESC;FMTTYPE=text/html:
LOCATION:1822 International Dr. Tupelo\, MS 38804
UID:e.2161.2256
SEQUENCE:3
DTSTAMP:20260426T013727Z
URL:https://business.cdfms.org/events/details/ribbon-cutting-northeast-mississippi-board-of-realtors-2256
END:VEVENT

END:VCALENDAR
