BEGIN:VCALENDAR
VERSION:2.0
PRODID:-//ChamberMaster//Event Calendar 2.0//EN
METHOD:PUBLISH
X-PUBLISHED-TTL:P3D
REFRESH-INTERVAL:P3D
CALSCALE:GREGORIAN
BEGIN:VEVENT
DTSTART:20160223T200000Z
DTEND:20160223T210000Z
X-MICROSOFT-CDO-ALLDAYEVENT:FALSE
SUMMARY:Ribbon Cutting: NMMC Retina Center
DESCRIPTION:Please join us for a ribbon cutting to help NMMC Retina Center celebrate their grand opening and open house!
X-ALT-DESC;FMTTYPE=text/html:Please join us for a ribbon cutting to help NMMC Retina Center celebrate their grand opening and open house!&nbsp\;
LOCATION:606 Brunson Dr. Tupelo\, MS 38801
UID:e.2161.1293
SEQUENCE:3
DTSTAMP:20260425T012132Z
URL:https://business.cdfms.org/events/details/ribbon-cutting-nmmc-retina-center-02-23-2016-1293
END:VEVENT

END:VCALENDAR
