BEGIN:VCALENDAR
VERSION:2.0
PRODID:-//ChamberMaster//Event Calendar 2.0//EN
METHOD:PUBLISH
X-PUBLISHED-TTL:P3D
REFRESH-INTERVAL:P3D
CALSCALE:GREGORIAN
BEGIN:VEVENT
DTSTART:20161122T190000Z
DTEND:20161122T193000Z
X-MICROSOFT-CDO-ALLDAYEVENT:FALSE
SUMMARY:Ribbon Cutting: Nicke Street Boutique
DESCRIPTION:Come join us at Nicke Street Boutique for a ribbon cutting presented by Mississippi Alarm
X-ALT-DESC;FMTTYPE=text/html:<div style="text-align: center\;">Come join us at Nicke Street Boutique for a ribbon cutting presented by Mississippi Alarm&nbsp\;</div>\n
LOCATION:106 Ann Circle
UID:e.2161.1417
SEQUENCE:3
DTSTAMP:20260422T072041Z
URL:https://business.cdfms.org/events/details/ribbon-cutting-nicke-street-boutique-1417
END:VEVENT

END:VCALENDAR
