BEGIN:VCALENDAR
VERSION:2.0
PRODID:-//ChamberMaster//Event Calendar 2.0//EN
METHOD:PUBLISH
X-PUBLISHED-TTL:P3D
REFRESH-INTERVAL:P3D
CALSCALE:GREGORIAN
BEGIN:VEVENT
DTSTART:20150707T154500Z
DTEND:20150707T164500Z
X-MICROSOFT-CDO-ALLDAYEVENT:FALSE
SUMMARY:Ribbon Cutting: NAPA Auto Parts
DESCRIPTION:Please join us as NAPA Auto Parts celebrate the grand opening of their new location.
X-ALT-DESC;FMTTYPE=text/html:Please join us as NAPA Auto Parts celebrate the grand opening of their new location.
LOCATION:1105 S. Gloster St. Tupelo\, MS 38801
UID:e.2161.229
SEQUENCE:3
DTSTAMP:20260425T135040Z
URL:https://business.cdfms.org/events/details/ribbon-cutting-napa-auto-parts-07-07-2015-229
END:VEVENT

END:VCALENDAR
