BEGIN:VCALENDAR
VERSION:2.0
PRODID:-//ChamberMaster//Event Calendar 2.0//EN
METHOD:PUBLISH
X-PUBLISHED-TTL:P3D
REFRESH-INTERVAL:P3D
CALSCALE:GREGORIAN
BEGIN:VEVENT
DTSTART:20160915T160000Z
DTEND:20160915T163000Z
X-MICROSOFT-CDO-ALLDAYEVENT:FALSE
SUMMARY:Ribbon Cutting: Nahon\, Saharovich and Trotz\, PLLC
DESCRIPTION:Come join us for at Nahon\, Saharovich\, and Trotz\, PLLC for a Ribbon Cutting sponsored by Mississippi Alarm.
X-ALT-DESC;FMTTYPE=text/html:<div style="text-align: center\;"><br />\nCome join us for at Nahon\, Saharovich\, and Trotz\, PLLC for a Ribbon Cutting sponsored by Mississippi Alarm.</div>\n
LOCATION:201 Magazine St\,. Ste. 201
UID:e.2161.1398
SEQUENCE:3
DTSTAMP:20260424T105618Z
URL:https://business.cdfms.org/events/details/ribbon-cutting-nahon-saharovich-and-trotz-pllc-1398
END:VEVENT

END:VCALENDAR
