BEGIN:VCALENDAR
VERSION:2.0
PRODID:-//ChamberMaster//Event Calendar 2.0//EN
METHOD:PUBLISH
X-PUBLISHED-TTL:P3D
REFRESH-INTERVAL:P3D
CALSCALE:GREGORIAN
BEGIN:VEVENT
DTSTART:20150602T150000Z
DTEND:20150602T160000Z
X-MICROSOFT-CDO-ALLDAYEVENT:FALSE
SUMMARY:Ribbon Cutting: Mugshots
DESCRIPTION:Please join us for a ribbon cutting at Mugshots to celebrate their grand opening!
X-ALT-DESC;FMTTYPE=text/html:Please join us for a ribbon cutting at Mugshots to celebrate their grand opening!
LOCATION:East Main St. Tupelo\, MS 38804
UID:e.2161.227
SEQUENCE:3
DTSTAMP:20260425T154417Z
URL:https://business.cdfms.org/events/details/ribbon-cutting-mugshots-06-02-2015-227
END:VEVENT

END:VCALENDAR
