BEGIN:VCALENDAR
VERSION:2.0
PRODID:-//ChamberMaster//Event Calendar 2.0//EN
METHOD:PUBLISH
X-PUBLISHED-TTL:P3D
REFRESH-INTERVAL:P3D
CALSCALE:GREGORIAN
BEGIN:VEVENT
DTSTART:20150522T143000Z
DTEND:20150522T153000Z
X-MICROSOFT-CDO-ALLDAYEVENT:FALSE
SUMMARY:Ribbon Cutting: Mississippi Title Loans
DESCRIPTION:Please join us for a ribbon cutting for Mississippi Title Loans
X-ALT-DESC;FMTTYPE=text/html:Please join us for a ribbon cutting for Mississippi Title Loans
LOCATION:506 N. Gloster Tupelo\, MS 38801
UID:e.2161.220
SEQUENCE:3
DTSTAMP:20260425T174057Z
URL:https://business.cdfms.org/events/details/ribbon-cutting-mississippi-title-loans-05-22-2015-220
END:VEVENT

END:VCALENDAR
