BEGIN:VCALENDAR
VERSION:2.0
PRODID:-//ChamberMaster//Event Calendar 2.0//EN
METHOD:PUBLISH
X-PUBLISHED-TTL:P3D
REFRESH-INTERVAL:P3D
CALSCALE:GREGORIAN
BEGIN:VEVENT
DTSTART:20150417T143000Z
DTEND:20150417T153000Z
X-MICROSOFT-CDO-ALLDAYEVENT:FALSE
SUMMARY:Ribbon Cutting: Mississippi Title Loans
DESCRIPTION:Please join us for a ribbon cutting at Mississippi Title Loans
X-ALT-DESC;FMTTYPE=text/html:Please join us for a ribbon cutting at Mississippi Title Loans
LOCATION:2233 W. Main St. Tupelo\, MS 38801
UID:e.2161.211
SEQUENCE:3
DTSTAMP:20260425T185741Z
URL:https://business.cdfms.org/events/details/ribbon-cutting-mississippi-title-loans-04-17-2015-211
END:VEVENT

END:VCALENDAR
