BEGIN:VCALENDAR
VERSION:2.0
PRODID:-//ChamberMaster//Event Calendar 2.0//EN
METHOD:PUBLISH
X-PUBLISHED-TTL:P3D
REFRESH-INTERVAL:P3D
CALSCALE:GREGORIAN
BEGIN:VEVENT
DTSTART:20150904T150000Z
DTEND:20150904T160000Z
X-MICROSOFT-CDO-ALLDAYEVENT:FALSE
SUMMARY:Ribbon Cutting: MedPlus Urgent Clinic
DESCRIPTION:Please join us to celebrate the Grand Opening of MedPlus Urgent Clinic to Tupelo
X-ALT-DESC;FMTTYPE=text/html:Please join us to celebrate the Grand Opening of MedPlus Urgent Clinic to Tupelo
LOCATION:875 Barnes Crossing Rd. Tupelo\, MS 38804
UID:e.2161.239
SEQUENCE:3
DTSTAMP:20260425T103446Z
URL:https://business.cdfms.org/events/details/ribbon-cutting-medplus-urgent-clinic-09-04-2015-239
END:VEVENT

END:VCALENDAR
