BEGIN:VCALENDAR
VERSION:2.0
PRODID:-//ChamberMaster//Event Calendar 2.0//EN
METHOD:PUBLISH
X-PUBLISHED-TTL:P3D
REFRESH-INTERVAL:P3D
CALSCALE:GREGORIAN
BEGIN:VEVENT
DTSTART:20170601T151500Z
DTEND:20170601T153000Z
X-MICROSOFT-CDO-ALLDAYEVENT:FALSE
SUMMARY:Ribbon Cutting: McAlister's Deli
DESCRIPTION:Come join us for a Grand Reopening and Ribbon Cutting presented by Mississippi Alarm
X-ALT-DESC;FMTTYPE=text/html:<div style="text-align: center\;">Come join us for a Grand Reopening and Ribbon Cutting presented by Mississippi Alarm<br />\n&nbsp\;</div>\n
LOCATION:312 S Gloster St.
UID:e.2161.1480
SEQUENCE:3
DTSTAMP:20260421T195434Z
URL:https://business.cdfms.org/events/details/ribbon-cutting-mcalister-s-deli-1480
END:VEVENT

END:VCALENDAR
