BEGIN:VCALENDAR
VERSION:2.0
PRODID:-//ChamberMaster//Event Calendar 2.0//EN
METHOD:PUBLISH
X-PUBLISHED-TTL:P3D
REFRESH-INTERVAL:P3D
CALSCALE:GREGORIAN
BEGIN:VEVENT
DTSTART:20160420T150000Z
DTEND:20160420T160000Z
X-MICROSOFT-CDO-ALLDAYEVENT:FALSE
SUMMARY:Ribbon Cutting: Jimmy's Seaside Burgers & Wings
DESCRIPTION:Please join us as Jimmy's Seaside Burgers & Wings celebrates the grand opening of their new location with a ribbon cutting!
X-ALT-DESC;FMTTYPE=text/html:Please join us as Jimmy&#39\;s Seaside Burgers &amp\; Wings celebrates the grand opening of their new location with a ribbon cutting!&nbsp\;
LOCATION:1710 S. Gloster St. Tupelo\, MS 38801
UID:e.2161.1304
SEQUENCE:3
DTSTAMP:20260424T200155Z
URL:https://business.cdfms.org/events/details/ribbon-cutting-jimmy-s-seaside-burgers-wings-04-20-2016-1304
END:VEVENT

END:VCALENDAR
