BEGIN:VCALENDAR
VERSION:2.0
PRODID:-//ChamberMaster//Event Calendar 2.0//EN
METHOD:PUBLISH
X-PUBLISHED-TTL:P3D
REFRESH-INTERVAL:P3D
CALSCALE:GREGORIAN
BEGIN:VEVENT
DTSTART:20160418T210000Z
DTEND:20160418T220000Z
X-MICROSOFT-CDO-ALLDAYEVENT:FALSE
SUMMARY:Ribbon Cutting: Integrity Auto Body
DESCRIPTION:Please join us for a ribbon cutting at Integrity Auto Body as they celebrate their grand opening!
X-ALT-DESC;FMTTYPE=text/html:Please join us for a ribbon cutting at Integrity Auto Body as they celebrate their grand opening!
LOCATION:363 Mobile St. Saltillo\, MS 38866
UID:e.2161.1298
SEQUENCE:3
DTSTAMP:20260424T213530Z
URL:https://business.cdfms.org/events/details/ribbon-cutting-integrity-auto-body-04-18-2016-1298
END:VEVENT

END:VCALENDAR
