BEGIN:VCALENDAR
VERSION:2.0
PRODID:-//ChamberMaster//Event Calendar 2.0//EN
METHOD:PUBLISH
X-PUBLISHED-TTL:P3D
REFRESH-INTERVAL:P3D
CALSCALE:GREGORIAN
BEGIN:VEVENT
DTSTART:20170112T200000Z
DTEND:20170112T203000Z
X-MICROSOFT-CDO-ALLDAYEVENT:FALSE
SUMMARY:RIbbon Cutting: In & Out Smart Repair
DESCRIPTION:Join us at In & Out Smart Repair for a ribbon cutting presented by Mississippi Alarm
X-ALT-DESC;FMTTYPE=text/html:<div style="text-align: center\;">Join us at In &amp\; Out Smart Repair for a ribbon cutting presented by Mississippi Alarm</div>\n
LOCATION:2434 W Main St.\, Ste. D
UID:e.2161.1425
SEQUENCE:3
DTSTAMP:20260422T051715Z
URL:https://business.cdfms.org/events/details/ribbon-cutting-in-out-smart-repair-1425
END:VEVENT

END:VCALENDAR
