BEGIN:VCALENDAR
VERSION:2.0
PRODID:-//ChamberMaster//Event Calendar 2.0//EN
METHOD:PUBLISH
X-PUBLISHED-TTL:P3D
REFRESH-INTERVAL:P3D
CALSCALE:GREGORIAN
BEGIN:VEVENT
DTSTART:20160909T163000Z
DTEND:20160909T170000Z
X-MICROSOFT-CDO-ALLDAYEVENT:FALSE
SUMMARY:Ribbon Cutting: Howie Chiropractic
DESCRIPTION:Come join us for a ribbon cutting for Howie Chiropractic presented by Mississippi Alarm
X-ALT-DESC;FMTTYPE=text/html:<div style="text-align: center\;">Come join us for a ribbon cutting for Howie&nbsp\;Chiropractic presented by Mississippi Alarm&nbsp\;</div>\n
LOCATION:1602 West Main St.
UID:e.2161.1374
SEQUENCE:3
DTSTAMP:20260424T111432Z
URL:https://business.cdfms.org/events/details/ribbon-cutting-howie-chiropractic-09-09-2016-1374
END:VEVENT

END:VCALENDAR
