BEGIN:VCALENDAR
VERSION:2.0
PRODID:-//ChamberMaster//Event Calendar 2.0//EN
METHOD:PUBLISH
X-PUBLISHED-TTL:P3D
REFRESH-INTERVAL:P3D
CALSCALE:GREGORIAN
BEGIN:VEVENT
DTSTART:20160729T170000Z
DTEND:20160729T180000Z
X-MICROSOFT-CDO-ALLDAYEVENT:FALSE
SUMMARY:Ribbon Cutting: Hooks Diabetes and Medicine Clinic
DESCRIPTION:Mark your calendar to join Hooks Diabetes and Medicine Clinic as they celebrate their grand opening with a ribbon cutting!
X-ALT-DESC;FMTTYPE=text/html:Mark your calendar to join Hooks Diabetes and Medicine Clinic as they celebrate their grand opening with a ribbon cutting!
LOCATION:2625 Traceland Dr.\, Ste. A Tupelo\, MS 38801
UID:e.2161.1337
SEQUENCE:3
DTSTAMP:20260424T143221Z
URL:https://business.cdfms.org/events/details/ribbon-cutting-hooks-diabetes-and-medicine-clinic-07-29-2016-1337
END:VEVENT

END:VCALENDAR
