BEGIN:VCALENDAR
VERSION:2.0
PRODID:-//ChamberMaster//Event Calendar 2.0//EN
METHOD:PUBLISH
X-PUBLISHED-TTL:P3D
REFRESH-INTERVAL:P3D
CALSCALE:GREGORIAN
BEGIN:VEVENT
DTSTART:20150819T210000Z
DTEND:20150819T220000Z
X-MICROSOFT-CDO-ALLDAYEVENT:FALSE
SUMMARY:Ribbon Cutting: HoneyBaked Ham
DESCRIPTION:Please join us as we celebrate HoneyBaked Ham's grand opening in their new location
X-ALT-DESC;FMTTYPE=text/html:Please join us as we celebrate HoneyBaked Ham&#39\;s grand opening in their new location
LOCATION:405 S. Gloster St. Tupelo\, MS 38801
UID:e.2161.237
SEQUENCE:3
DTSTAMP:20260425T114132Z
URL:https://business.cdfms.org/events/details/ribbon-cutting-honeybaked-ham-08-19-2015-237
END:VEVENT

END:VCALENDAR
