BEGIN:VCALENDAR
VERSION:2.0
PRODID:-//ChamberMaster//Event Calendar 2.0//EN
METHOD:PUBLISH
X-PUBLISHED-TTL:P3D
REFRESH-INTERVAL:P3D
CALSCALE:GREGORIAN
BEGIN:VEVENT
DTSTART:20170615T150000Z
DTEND:20170615T153000Z
X-MICROSOFT-CDO-ALLDAYEVENT:FALSE
SUMMARY:Ribbon Cutting: HomeSpace Discount Furnishings LLC
DESCRIPTION:Please join us for a ribbon cutting presented by Mississippi Alarm
X-ALT-DESC;FMTTYPE=text/html:<div style="text-align: center\;">Please join us for a ribbon cutting presented by Mississippi Alarm</div>\n
LOCATION:2811 Hwy 178 E Skyline\, MS 38857
UID:e.2161.1481
SEQUENCE:3
DTSTAMP:20260421T175855Z
URL:https://business.cdfms.org/events/details/ribbon-cutting-homespace-discount-furnishings-llc-1481
END:VEVENT

END:VCALENDAR
