BEGIN:VCALENDAR
VERSION:2.0
PRODID:-//ChamberMaster//Event Calendar 2.0//EN
METHOD:PUBLISH
X-PUBLISHED-TTL:P3D
REFRESH-INTERVAL:P3D
CALSCALE:GREGORIAN
BEGIN:VEVENT
DTSTART:20220304T200000Z
DTEND:20220304T203000Z
X-MICROSOFT-CDO-ALLDAYEVENT:FALSE
SUMMARY:Ribbon Cutting: Healthy Life Solutions
DESCRIPTION:Come join us for a ribbon cutting presented by Visiting Angels
X-ALT-DESC;FMTTYPE=text/html:Come join us for a ribbon cutting presented by Visiting Angels
LOCATION:219 N Church St. Tupelo\, MS 38804
UID:e.2161.1842
SEQUENCE:3
DTSTAMP:20260421T193103Z
URL:https://business.cdfms.org/events/details/ribbon-cutting-healthy-life-solutions-1842
END:VEVENT

END:VCALENDAR
