BEGIN:VCALENDAR
VERSION:2.0
PRODID:-//ChamberMaster//Event Calendar 2.0//EN
METHOD:PUBLISH
X-PUBLISHED-TTL:P3D
REFRESH-INTERVAL:P3D
CALSCALE:GREGORIAN
BEGIN:VEVENT
DTSTART:20170825T163000Z
DTEND:20170825T170000Z
X-MICROSOFT-CDO-ALLDAYEVENT:FALSE
SUMMARY:RIbbon Cutting: Head Over Heels Salon & Spa
DESCRIPTION:Come join us for a ribbon cutting presented by Mississippi Alarm
X-ALT-DESC;FMTTYPE=text/html:<div style="text-align: center\;">Come join us for a ribbon cutting presented by Mississippi Alarm</div>\n\n<div style="text-align: center\;">&nbsp\;</div>\n
LOCATION:142 S Industrial Rd.
UID:e.2161.1501
SEQUENCE:3
DTSTAMP:20260421T142234Z
URL:https://business.cdfms.org/events/details/ribbon-cutting-head-over-heels-salon-spa-1501
END:VEVENT

END:VCALENDAR
