BEGIN:VCALENDAR
VERSION:2.0
PRODID:-//ChamberMaster//Event Calendar 2.0//EN
METHOD:PUBLISH
X-PUBLISHED-TTL:P3D
REFRESH-INTERVAL:P3D
CALSCALE:GREGORIAN
BEGIN:VEVENT
DTSTART:20160218T220000Z
DTEND:20160218T230000Z
X-MICROSOFT-CDO-ALLDAYEVENT:FALSE
SUMMARY:Ribbon Cutting: Gum Tree Mortgage
DESCRIPTION:Please join us for a ribbon cutting at Gum Tree Mortgage to celebrate our new office expansion!
X-ALT-DESC;FMTTYPE=text/html:Please join us for a ribbon cutting at Gum Tree Mortgage to celebrate our new office expansion!&nbsp\;
LOCATION:218 S. Thomas St.\, Ste. 105 Tupelo\, MS 38801
UID:e.2161.1289
SEQUENCE:3
DTSTAMP:20260425T012019Z
URL:https://business.cdfms.org/events/details/ribbon-cutting-gum-tree-mortgage-02-18-2016-1289
END:VEVENT

END:VCALENDAR
