BEGIN:VCALENDAR
VERSION:2.0
PRODID:-//ChamberMaster//Event Calendar 2.0//EN
METHOD:PUBLISH
X-PUBLISHED-TTL:P3D
REFRESH-INTERVAL:P3D
CALSCALE:GREGORIAN
BEGIN:VEVENT
DTSTART:20160829T153000Z
DTEND:20160829T160000Z
X-MICROSOFT-CDO-ALLDAYEVENT:FALSE
SUMMARY:Ribbon Cutting: Generations Assisted Living
DESCRIPTION:Come help us celebrate Generations Assisted Living at a Ribbon Cutting presented by Mississippi Alarm
X-ALT-DESC;FMTTYPE=text/html:&nbsp\;\n<div style="text-align: center\;">Come help us celebrate Generations Assisted Living at a&nbsp\;Ribbon Cutting presented by Mississippi Alarm<br />\n<br />\n&nbsp\;</div>\n
LOCATION:1090 County Road 811 Saltillo\, MS
UID:e.2161.1369
SEQUENCE:3
DTSTAMP:20260424T123650Z
URL:https://business.cdfms.org/events/details/ribbon-cutting-generations-assisted-living-08-29-2016-1369
END:VEVENT

END:VCALENDAR
