BEGIN:VCALENDAR
VERSION:2.0
PRODID:-//ChamberMaster//Event Calendar 2.0//EN
METHOD:PUBLISH
X-PUBLISHED-TTL:P3D
REFRESH-INTERVAL:P3D
CALSCALE:GREGORIAN
BEGIN:VEVENT
DTSTART:20171006T150000Z
DTEND:20171006T151500Z
X-MICROSOFT-CDO-ALLDAYEVENT:FALSE
SUMMARY:Ribbon Cutting: Gameday Haircuts & Spa
DESCRIPTION:Come join us for a ribbon cutting presented by Mississippi Alarm
X-ALT-DESC;FMTTYPE=text/html:<div style="text-align: center\;">Come join us for a ribbon cutting presented by Mississippi Alarm</div>\n
LOCATION:1203 N Gloster St.\, Ste. M
UID:e.2161.1510
SEQUENCE:3
DTSTAMP:20260421T104955Z
URL:https://business.cdfms.org/events/details/ribbon-cutting-gameday-haircuts-spa-1510
END:VEVENT

END:VCALENDAR
