BEGIN:VCALENDAR
VERSION:2.0
PRODID:-//ChamberMaster//Event Calendar 2.0//EN
METHOD:PUBLISH
X-PUBLISHED-TTL:P3D
REFRESH-INTERVAL:P3D
CALSCALE:GREGORIAN
BEGIN:VEVENT
DTSTART:20150203T160000Z
DTEND:20150203T170000Z
X-MICROSOFT-CDO-ALLDAYEVENT:FALSE
SUMMARY:Ribbon Cutting: FNB Tupelo
DESCRIPTION:Please join us for the grand opening ribbon cutting of FNB Tupelo's new location.
X-ALT-DESC;FMTTYPE=text/html:Please join us for the grand opening ribbon cutting of FNB Tupelo&rsquo\;s new location.
LOCATION:165 S. Commerce St. Tupelo\, MS 38804
UID:e.2161.188
SEQUENCE:3
DTSTAMP:20260425T221614Z
URL:https://business.cdfms.org/events/details/ribbon-cutting-fnb-tupelo-02-03-2015-188
END:VEVENT

END:VCALENDAR
