BEGIN:VCALENDAR
VERSION:2.0
PRODID:-//ChamberMaster//Event Calendar 2.0//EN
METHOD:PUBLISH
X-PUBLISHED-TTL:P3D
REFRESH-INTERVAL:P3D
CALSCALE:GREGORIAN
BEGIN:VEVENT
DTSTART:20150807T154500Z
DTEND:20150807T164500Z
X-MICROSOFT-CDO-ALLDAYEVENT:FALSE
SUMMARY:Ribbon Cutting: Five Guys
DESCRIPTION:Please join us for a ribbon cutting at Five Guys to help them celebrate their first anniversary in Tupelo.
X-ALT-DESC;FMTTYPE=text/html:Please join us for a ribbon cutting at Five Guys to help them celebrate their first anniversary in Tupelo.
LOCATION:3982 N. Gloster St. Tupelo\, MS 38804
UID:e.2161.231
SEQUENCE:3
DTSTAMP:20260423T140426Z
URL:https://business.cdfms.org/events/details/ribbon-cutting-five-guys-08-07-2015-231
END:VEVENT

END:VCALENDAR
